BEGIN:VCALENDAR
VERSION:2.0
PRODID:-//BCR Publishing - ECPv6.15.12.2//NONSGML v1.0//EN
CALSCALE:GREGORIAN
METHOD:PUBLISH
X-WR-CALNAME:BCR Publishing
X-ORIGINAL-URL:https://bcrpub.com
X-WR-CALDESC:Events for BCR Publishing
REFRESH-INTERVAL;VALUE=DURATION:PT1H
X-Robots-Tag:noindex
X-PUBLISHED-TTL:PT1H
BEGIN:VTIMEZONE
TZID:UTC
BEGIN:STANDARD
TZOFFSETFROM:+0000
TZOFFSETTO:+0000
TZNAME:UTC
DTSTART:20250101T000000
END:STANDARD
END:VTIMEZONE
BEGIN:VEVENT
DTSTART;TZID=UTC:20260505T080000
DTEND;TZID=UTC:20260506T170000
DTSTAMP:20260418T005126
CREATED:20251117T140311Z
LAST-MODIFIED:20260414T134440Z
UID:10000085-1777968000-1778086800@bcrpub.com
SUMMARY:26th Annual Receivables Finance International
DESCRIPTION:Hosted by BCR\, the 2026 Receivables Finance International (RFIx26) continues its legacy as the premier global gathering for the receivables finance industry. Now in its 26th year\, RFIx brings together leading industry figures from around the world for two days of forward-looking insight\, strategic dialogue\, and high-level networking in Berlin. \nIn 2026\, RFIx will spotlight innovation\, collaboration\, and growth across a rapidly evolving financial ecosystem. As markets adapt to new technologies\, regulatory shifts\, and global economic trends\, the event will explore how receivables finance continues to transform to meet the needs of modern trade. \nEach year\, RFIx attracts an exceptional mix of participants\, from trade banks and independent finance providers to fintechs\, insurers\, software innovators\, consultants\, legal experts\, and corporate treasurers – all shaping the future of working capital finance. \nJoin us in 2026 as we connect\, collaborate\, and chart the next chapter of receivables finance. \nTo support talent development\, paying delegates may bring a junior or early-career (under 30) colleague to attend at no additional cost. \nRFIx26_Agenda (updated 14.04.26)
URL:https://bcrpub.com/event/26th-annual-receivables-finance-international/
LOCATION:Hilton Berlin\, Hilton Berlin Anton-Wilhelm-Amo-Straße 30\, Berlin\, 10117\, Germany
ORGANIZER;CN="The Events Team":MAILTO:events@bcrpub.com
END:VEVENT
BEGIN:VEVENT
DTSTART;TZID=UTC:20261103T080000
DTEND;TZID=UTC:20261104T170000
DTSTAMP:20260418T005126
CREATED:20260310T103504Z
LAST-MODIFIED:20260311T104423Z
UID:10000086-1793692800-1793811600@bcrpub.com
SUMMARY:5th Annual MENA Supply Chain Finance
DESCRIPTION:As global trade patterns evolve and supply chains across the MENA region continue to adapt to economic and geopolitical shifts\, the 5th Annual MENA Supply Chain Finance Conference (MENASCF26) will convene this November in Dubai\, bringing together senior leaders and experts from across the industry to examine the forces shaping the future of supply chain finance. \nWith businesses facing increasing pressure to optimise working capital\, strengthen supply chain resilience\, and navigate a rapidly transforming financial ecosystem\, collaboration between financial institutions\, corporates\, insurers\, fintech innovators\, and policymakers has become more critical than ever. MENASCF26 will provide a dedicated platform for these stakeholders to exchange perspectives\, share best practices\, and explore practical solutions to the sector’s most pressing challenges. \nThe conference will feature in-depth discussions on regional economic outlooks\, evolving regulatory frameworks\, and the growing role of technology in modern trade and supply chain finance. Through expert panels\, case studies\, and interactive networking sessions\, participants will gain valuable insights into unlocking liquidity\, managing risk\, and driving innovation across supply chain finance programmes. \nNow in its fifth year\, MENASCF continues to serve as a key meeting point for the region’s trade and supply chain finance community\, offering unparalleled opportunities to build partnerships\, exchange knowledge\, and stay at the forefront of developments shaping the MENA market.
URL:https://bcrpub.com/event/5th-annual-mena-supply-chain-finance/
LOCATION:Dubai Chambers\, Baniyas Road\, Port Saeed\, Riggat Al Buten\, Dubai\, United Arab Emirates
ORGANIZER;CN="The Events Team":MAILTO:events@bcrpub.com
END:VEVENT
END:VCALENDAR