BEGIN:VCALENDAR
VERSION:2.0
PRODID:-//BCR Publishing - ECPv6.15.12.2//NONSGML v1.0//EN
CALSCALE:GREGORIAN
METHOD:PUBLISH
X-WR-CALNAME:BCR Publishing
X-ORIGINAL-URL:https://bcrpub.com
X-WR-CALDESC:Events for BCR Publishing
REFRESH-INTERVAL;VALUE=DURATION:PT1H
X-Robots-Tag:noindex
X-PUBLISHED-TTL:PT1H
BEGIN:VTIMEZONE
TZID:UTC
BEGIN:STANDARD
TZOFFSETFROM:+0000
TZOFFSETTO:+0000
TZNAME:UTC
DTSTART:20220101T000000
END:STANDARD
END:VTIMEZONE
BEGIN:VEVENT
DTSTART;VALUE=DATE:20230522
DTEND;VALUE=DATE:20230523
DTSTAMP:20260419T143120
CREATED:20230106T153216Z
LAST-MODIFIED:20240718T135337Z
UID:401-1684713600-1684799999@bcrpub.com
SUMMARY:RFIx23 Awards
DESCRIPTION:Global economic activity is experiencing a broad-based and sharper-than-expected slowdown\, with inflation higher than seen in decades. The cost-of-living crisis\, tightening financial conditions in most regions\, Russia’s invasion of Ukraine\, and the lingering Covid-19 pandemic all weigh heavily on economic prospects. Despite this\, receivables and payables market players show great resilience\, commitment to their clients\, and growth in a climate which also requires enhanced risk management\, competitive ingenuity\, and heightened market awareness. The 5th annual Receivables Finance International Awards will focus on those players finding industry positivity and celebrate their success in leading the way in receivables and payables finance around the globe. \nBCR Publishing will be holding its 5th annual Receivables Finance International Awards on the evening of 22 May 2023\, the day before the first day of BCR’s 23rd annual RFIx Convention. \nThe Awards are international in scale and entries are open to all companies involved in the receivables and payables finance ecosystem including banks\, non-banks\, fintechs\, consultancies and legal advisors. \nThere is no fee for entering the Awards\, so you don’t have anything to lose\, but everything to gain with a chance of winning one of our recognised prestigious awards. \nAll winners will be announced at the Awards Gala Dinner on 22 May 2023 in London – an annual event not to be missed! \nApplications are closed.
URL:https://bcrpub.com/event/rfix23-awards/
LOCATION:Clifford Chance\, 10 Upper Bank St Canary Wharf\, London\, E14 5JJ\, United Kingdom
CATEGORIES:Awards
ATTACH;FMTTYPE=image/png:https://bcrpub.com/wp-content/uploads/2023/01/RFIx-Awards-banners_754x300.png
ORGANIZER;CN="Yongmei He":MAILTO:yongmei.he@bcrpub.com
END:VEVENT
END:VCALENDAR