BEGIN:VCALENDAR
VERSION:2.0
PRODID:-//BCR Publishing - ECPv6.15.12.2//NONSGML v1.0//EN
CALSCALE:GREGORIAN
METHOD:PUBLISH
X-WR-CALNAME:BCR Publishing
X-ORIGINAL-URL:https://bcrpub.com
X-WR-CALDESC:Events for BCR Publishing
REFRESH-INTERVAL;VALUE=DURATION:PT1H
X-Robots-Tag:noindex
X-PUBLISHED-TTL:PT1H
BEGIN:VTIMEZONE
TZID:UTC
BEGIN:STANDARD
TZOFFSETFROM:+0000
TZOFFSETTO:+0000
TZNAME:UTC
DTSTART:20190101T000000
END:STANDARD
END:VTIMEZONE
BEGIN:VEVENT
DTSTART;VALUE=DATE:20200310
DTEND;VALUE=DATE:20200312
DTSTAMP:20260420T194039
CREATED:20190924T142605Z
LAST-MODIFIED:20240718T145618Z
UID:15517-1583798400-1583971199@bcrpub.com
SUMMARY:RFIx - Receivables Finance International Convention 2020
DESCRIPTION:The Shock of the New\nThe 2020 RFIx programme is themed ‘The Shock of the New’. The phrase ‘ the shock of the new’ is taken from a 1980 documentary television series. It addressed the development of modern art since the Impressionists and the immense impact and change this had on the global art world. This phrase was felt to be very appropriate in reflecting what is happening in the global receivables finance industry and the huge and relatively sudden impact new technology is having on the sector now and what its likely to have in the near future. \n‘There are two key aspects that make RFIx 2020 a particularly important event. The first is that it is the 20th Anniversary of the first RFIx and as such we will make it a special event with a great programme\, topics\, speakers\, and of course\, networking. The second is the rapidly increasing scope of opportunity for the receivables finance industry. This whole sector is evolving and developing so rapidly that these are very exciting\, even shocking times. Come\, join us and be a part of something special…’ \nMichael Bickers \n 
URL:https://bcrpub.com/event/rfix-receivables-finance-international-convention-2020/
LOCATION:Hilton London Metropole\, 225 Edgware Rd\, London\, England\, W2 1JU\, United Kingdom
CATEGORIES:Convention
ATTACH;FMTTYPE=image/gif:https://bcrpub.com/wp-content/uploads/2019/10/RFIx20_websitebanner4.gif
GEO:51.52005725686;-0.16926530794741
X-APPLE-STRUCTURED-LOCATION;VALUE=URI;X-ADDRESS=Hilton London Metropole 225 Edgware Rd London England W2 1JU United Kingdom;X-APPLE-RADIUS=500;X-TITLE=225 Edgware Rd:geo:-0.16926530794741,51.52005725686
END:VEVENT
END:VCALENDAR