BEGIN:VCALENDAR
VERSION:2.0
PRODID:-//BCR Publishing - ECPv6.15.12.2//NONSGML v1.0//EN
CALSCALE:GREGORIAN
METHOD:PUBLISH
X-WR-CALNAME:BCR Publishing
X-ORIGINAL-URL:https://bcrpub.com
X-WR-CALDESC:Events for BCR Publishing
REFRESH-INTERVAL;VALUE=DURATION:PT1H
X-Robots-Tag:noindex
X-PUBLISHED-TTL:PT1H
BEGIN:VTIMEZONE
TZID:UTC
BEGIN:STANDARD
TZOFFSETFROM:+0000
TZOFFSETTO:+0000
TZNAME:UTC
DTSTART:20180101T000000
END:STANDARD
END:VTIMEZONE
BEGIN:VEVENT
DTSTART;VALUE=DATE:20191114
DTEND;VALUE=DATE:20191115
DTSTAMP:20260420T205325
CREATED:20171120T100415Z
LAST-MODIFIED:20240718T150215Z
UID:15440-1573689600-1573775999@bcrpub.com
SUMMARY:Alternative & Receivables Finance Forum
DESCRIPTION:Alternative & Receivables Finance Forum tracks the transformation of receivables and invoice finance; showcasing the most successful new entrants to the market\, examining the future of technology-enabled funding models\, and driving the conversation on alternative finance for SMEs. \nThis is a unique gathering\, where you can network with established receivables finance providers and ‘alternative’ SME funders and find out how the competitive landscape for commercial finance is changing. \nThe comprehensive programme provides insights into the priorities influencing SMEs’ financial choices and showcases the latest technology-enabled distribution models.
URL:https://bcrpub.com/event/alternative-receivables-finance-forum-0/
ATTACH;FMTTYPE=image/png:https://bcrpub.com/wp-content/uploads/2018/06/Connaught-rooms.PNG
END:VEVENT
END:VCALENDAR