BEGIN:VCALENDAR
VERSION:2.0
PRODID:-//BCR Publishing - ECPv6.15.12.2//NONSGML v1.0//EN
CALSCALE:GREGORIAN
METHOD:PUBLISH
X-WR-CALNAME:BCR Publishing
X-ORIGINAL-URL:https://bcrpub.com
X-WR-CALDESC:Events for BCR Publishing
REFRESH-INTERVAL;VALUE=DURATION:PT1H
X-Robots-Tag:noindex
X-PUBLISHED-TTL:PT1H
BEGIN:VTIMEZONE
TZID:UTC
BEGIN:STANDARD
TZOFFSETFROM:+0000
TZOFFSETTO:+0000
TZNAME:UTC
DTSTART:20240101T000000
END:STANDARD
END:VTIMEZONE
BEGIN:VEVENT
DTSTART;TZID=UTC:20251103T080000
DTEND;TZID=UTC:20251104T170000
DTSTAMP:20260423T152304
CREATED:20250313T163817Z
LAST-MODIFIED:20251029T111549Z
UID:146699-1762156800-1762275600@bcrpub.com
SUMMARY:4th Annual MENA Supply Chain Finance
DESCRIPTION:As geopolitical tensions and economic uncertainties continue to shape the MENA region\, the 4th Annual MENA Supply Chain Finance (MENASCF25) conference will take place this November in Dubai\, bringing together key industry leaders to discuss these emerging challenges and how to tackle them and unlock new opportunities in supply chain finance. \nWith ongoing disruptions\, oil production shifts\, and fluctuating economic growth projections\, the need for innovative financial solutions has never been greater. MENASCF25 will serve as a vital platform for dialogue\, fostering collaboration between banks\, independent financiers\, trade credit insurers\, fintechs\, policymakers\, and legal experts to explore strategies for navigating the evolving landscape. \nThis year’s conference will feature expert discussions on economic trends\, regulatory updates\, and market innovations while providing unparalleled networking opportunities. Attendees will gain actionable insights into risk mitigation\, liquidity optimisation\, and digital transformation in supply chain finance to drive resilience and adaptability in the sector. \nWhether you are a financial institution\, alternative lender\, corporate treasurer\, or industry consultant\, MENASCF25 is your gateway to staying ahead in the dynamic world of MENA supply chain finance. \nMENASCF25 Programme (updated 29.10.2025) \n  \n 
URL:https://bcrpub.com/event/4th-annual-mena-supply-chain-finance/
LOCATION:Dubai Chambers\, Baniyas Road\, Port Saeed\, Riggat Al Buten\, Dubai\, United Arab Emirates
ORGANIZER;CN="The Events Team":MAILTO:events@bcrpub.com
END:VEVENT
END:VCALENDAR